BEGIN:VCALENDAR
VERSION:2.0
PRODID:spatie/icalendar-generator
DESCRIPTION:Events from The Camden Clean Air Initiative
X-WR-CALDESC:Events from The Camden Clean Air Initiative
REFRESH-INTERVAL;VALUE=DURATION:PT1440M
X-PUBLISHED-TTL:PT1440M
BEGIN:VTIMEZONE
TZID:Europe/London
BEGIN:STANDARD
DTSTART:20251026T020000Z
TZOFFSETFROM:+0100
TZOFFSETTO:+0000
END:STANDARD
BEGIN:DAYLIGHT
DTSTART:20260329T010000Z
TZOFFSETFROM:+0000
TZOFFSETTO:+0100
END:DAYLIGHT
END:VTIMEZONE
BEGIN:VTIMEZONE
TZID:UTC
BEGIN:STANDARD
DTSTART:20250724T185117Z
TZOFFSETFROM:+0000
TZOFFSETTO:+0000
END:STANDARD
END:VTIMEZONE
BEGIN:VEVENT
UID:318-1
DTSTAMP:20260420T185117Z
SUMMARY:No Car Tuesday
LOCATION:
ORGANIZER;CN=Georgina McGivern:MAILTO:gmcgivern@allegra.co.uk
RRULE:FREQ=WEEKLY;COUNT=500
DTSTART;TZID=Europe/London;VALUE=DATE:20260407
DTEND;TZID=Europe/London;VALUE=DATE:20260408
X-ALT-DESC;FMTTYPE=TEXT/HTML:Every Tuesday leave the car at home and find a
 nother way to get to school!
CATEGORIES:Active Travel
URL;VALUE=URI:https://old.camdencleanair.org/mc-events/no-car-tuesday/?mc_i
 d=318
END:VEVENT
END:VCALENDAR